BEGIN:VCALENDAR
VERSION:2.0
METHOD:PUBLISH
PRODID:Wuppertal-Live ICal v9.0 R38/39
BEGIN:VEVENT
CLASS:PUBLIC
DESCRIPTION:weitere Termininfos und Ticketbuchung unter https://www.wuppert
 al-live.de/ical/635192 
DTEND;TZID=Europe/Berlin:20260429T200000
DTSTAMP:20260423T152832Z
DTSTART;TZID=Europe/Berlin:20260429T170000
LOCATION:Pina Bausch Zentrum\, Bundesallee 260\, 42103 Wuppertal
PRIORITY:5
SEQUENCE:0
SUMMARY:Julio César Iglesias Ungo -- Inner Tools - Brutal Poetry
TRANSP:OPAQUE
UID:635192:www.wuppertal-live.de
URL:https://www.wuppertal-live.de/ical/635192
END:VEVENT
END:VCALENDAR
