BEGIN:VCALENDAR
VERSION:2.0
METHOD:PUBLISH
PRODID:Wuppertal-Live ICal v9.0 R38/39
BEGIN:VEVENT
CLASS:PUBLIC
DESCRIPTION:weitere Termininfos unter https://www.wuppertal-live.de/ical/63
 4882 
DTEND;TZID=Europe/Berlin:20260529T213000
DTSTAMP:20260420T112642Z
DTSTART;TZID=Europe/Berlin:20260529T193000
LOCATION:Ev.-Ref. Kirchengemeinde Ronsdorf\, Kurfürstenstr. 13\, 42369 Wup
 pertal
PRIORITY:5
SEQUENCE:0
SUMMARY:Wuppertaler Orgeltage · Professor Jürgen Kursawa -- Pfingstzyklus
  der Wuppertaler Orgeltage - Romantische Orgel
TRANSP:OPAQUE
UID:634882:www.wuppertal-live.de
URL:https://www.wuppertal-live.de/ical/634882
END:VEVENT
END:VCALENDAR
