BEGIN:VCALENDAR
VERSION:2.0
METHOD:PUBLISH
PRODID:Wuppertal-Live ICal v9.0 R38/39
BEGIN:VEVENT
CLASS:PUBLIC
DESCRIPTION:weitere Termininfos unter https://www.wuppertal-live.de/ical/63
 4868 
DTEND;TZID=Europe/Berlin:20260502T123000
DTSTAMP:20260420T115223Z
DTSTART;TZID=Europe/Berlin:20260502T110000
LOCATION:Naturheilpraxis Katrin Windgassen-Engel\, Staubenthaler Str. 20\, 
 42369 Wuppertal
PRIORITY:5
SEQUENCE:0
SUMMARY:Heilpraktikerin Katrin Windgassen-Engel -- Der Nervus Vagus &amp\; 
 Somatic Experiencing (SE)
TRANSP:OPAQUE
UID:634868:www.wuppertal-live.de
URL:https://www.wuppertal-live.de/ical/634868
END:VEVENT
END:VCALENDAR
