BEGIN:VCALENDAR
VERSION:2.0
METHOD:PUBLISH
PRODID:Wuppertal-Live ICal v9.0 R38/39
BEGIN:VEVENT
CLASS:PUBLIC
DESCRIPTION:weitere Termininfos unter https://www.wuppertal-live.de/ical/63
 4867 
DTEND;TZID=Europe/Berlin:20260529T194500
DTSTAMP:20260420T115217Z
DTSTART;TZID=Europe/Berlin:20260529T183000
LOCATION:Naturheilpraxis Katrin Windgassen-Engel\, Staubenthaler Str. 20\, 
 42369 Wuppertal
PRIORITY:5
SEQUENCE:0
SUMMARY:Heilpraktikerin Katrin Windgassen-Engel -- Menschsein fühlen &amp\
 ; Koregulation einladen
TRANSP:OPAQUE
UID:634867:www.wuppertal-live.de
URL:https://www.wuppertal-live.de/ical/634867
END:VEVENT
END:VCALENDAR
