BEGIN:VCALENDAR
VERSION:2.0
METHOD:PUBLISH
PRODID:Wuppertal-Live ICal v9.0 R38/39
BEGIN:VEVENT
CLASS:PUBLIC
DESCRIPTION:weitere Termininfos und Ticketbuchung unter https://www.wuppert
 al-live.de/ical/634767 
DTEND;TZID=Europe/Berlin:20260510T140000
DTSTAMP:20260420T053135Z
DTSTART;TZID=Europe/Berlin:20260510T100000
LOCATION:Tanz Station - Barmer Bahnhof\, Hans-Dietrich-Genscher-Platz 2\, 4
 2283 Wuppertal
PRIORITY:5
SEQUENCE:0
SUMMARY:Thomas Feyerabend · Miranda Markgraf -- &#49373\; [Ssaeng:Leben]
TRANSP:OPAQUE
UID:634767:www.wuppertal-live.de
URL:https://www.wuppertal-live.de/ical/634767
END:VEVENT
END:VCALENDAR
