BEGIN:VCALENDAR
VERSION:2.0
METHOD:PUBLISH
PRODID:Wuppertal-Live ICal v9.0 R38/39
BEGIN:VEVENT
CLASS:PUBLIC
DESCRIPTION:weitere Termininfos und Ticketbuchung unter https://www.wuppert
 al-live.de/ical/634750 
DTEND;TZID=Europe/Berlin:20260628T200000
DTSTAMP:20260420T162250Z
DTSTART;TZID=Europe/Berlin:20260628T180000
LOCATION:INSEL\, Wiesenstr. 6\, 42105 Wuppertal
PRIORITY:5
SEQUENCE:0
SUMMARY:Alexander Dimitrov · Tamara Elizbarashvili -- Alexander Dimitrov /
  Violoncello // Tamara Elizbarashvili / Klavier
TRANSP:OPAQUE
UID:634750:www.wuppertal-live.de
URL:https://www.wuppertal-live.de/ical/634750
END:VEVENT
END:VCALENDAR
