BEGIN:VCALENDAR
VERSION:2.0
METHOD:PUBLISH
PRODID:Wuppertal-Live ICal v9.0 R38/39
BEGIN:VEVENT
CLASS:PUBLIC
DESCRIPTION:weitere Termininfos und Ticketbuchung unter https://www.wuppert
 al-live.de/ical/634698 
DTEND;TZID=Europe/Berlin:20260513T030000
DTSTAMP:20260420T164702Z
DTSTART;TZID=Europe/Berlin:20260513T210000
LOCATION:Loch\, Plateniusstr. 35\, 42105 Wuppertal
PRIORITY:5
SEQUENCE:0
SUMMARY:Ibiza2026
TRANSP:OPAQUE
UID:634698:www.wuppertal-live.de
URL:https://www.wuppertal-live.de/ical/634698
END:VEVENT
END:VCALENDAR
