BEGIN:VCALENDAR
VERSION:2.0
METHOD:PUBLISH
PRODID:Wuppertal-Live ICal v9.0 R38/39
BEGIN:VEVENT
CLASS:PUBLIC
DESCRIPTION:weitere Termininfos unter https://www.wuppertal-live.de/ical/63
 4659 
DTEND;TZID=Europe/Berlin:20261128T204500
DTSTAMP:20260420T164917Z
DTSTART;TZID=Europe/Berlin:20261128T184500
LOCATION:INSEL\, Wiesenstr. 6\, 42105 Wuppertal
PRIORITY:5
SEQUENCE:0
SUMMARY:Isabella &amp\; Iwan -- Volcada / Vertrauenssprung in Zeitlupe
TRANSP:OPAQUE
UID:634659:www.wuppertal-live.de
URL:https://www.wuppertal-live.de/ical/634659
END:VEVENT
END:VCALENDAR
