BEGIN:VCALENDAR
VERSION:2.0
METHOD:PUBLISH
PRODID:Wuppertal-Live ICal v9.0 R38/39
BEGIN:VEVENT
CLASS:PUBLIC
DESCRIPTION:weitere Termininfos unter https://www.wuppertal-live.de/ical/63
 4657 
DTEND;TZID=Europe/Berlin:20260615T213000
DTSTAMP:20260420T162159Z
DTSTART;TZID=Europe/Berlin:20260615T193000
LOCATION:INSEL\, Wiesenstr. 6\, 42105 Wuppertal
PRIORITY:5
SEQUENCE:0
SUMMARY:Gabriele Koch · Maxim Rettich · Jan Lorenz · Sophia Otto · Juli
 o Escobar -- INSEL Spielplatz
TRANSP:OPAQUE
UID:634657:www.wuppertal-live.de
URL:https://www.wuppertal-live.de/ical/634657
END:VEVENT
END:VCALENDAR
