BEGIN:VCALENDAR
VERSION:2.0
METHOD:PUBLISH
PRODID:Wuppertal-Live ICal v9.0 R38/39
BEGIN:VEVENT
CLASS:PUBLIC
DESCRIPTION:weitere Termininfos unter https://www.remscheid-live.de/ical/63
 4540 
DTEND;TZID=Europe/Berlin:20260711T000000
DTSTAMP:20260420T035337Z
DTSTART;TZID=Europe/Berlin:20260710T220000
LOCATION:Déjà-vu\, Lenhartzhammer 4\, 42899 Remscheid
PRIORITY:5
SEQUENCE:0
SUMMARY:Querbeet
TRANSP:OPAQUE
UID:634540:www.remscheid-live.de
URL:https://www.remscheid-live.de/ical/634540
END:VEVENT
END:VCALENDAR
