BEGIN:VCALENDAR
VERSION:2.0
METHOD:PUBLISH
PRODID:Wuppertal-Live ICal v9.0 R38/39
BEGIN:VEVENT
CLASS:PUBLIC
DESCRIPTION:weitere Termininfos und Ticketbuchung unter https://www.wuppert
 al-live.de/ical/634501 
DTEND;TZID=Europe/Berlin:20260510T170000
DTSTAMP:20260422T204029Z
DTSTART;TZID=Europe/Berlin:20260510T153000
LOCATION:Bob Campus Nachbarschaftsetage\, Wichlinghauser Str. 31\, 42277 Wu
 ppertal
PRIORITY:5
SEQUENCE:0
SUMMARY:Le Mietz -- Schreibworkshop für Jugendliche mit Hip-Hop-Künstler 
 Le Mietz
TRANSP:OPAQUE
UID:634501:www.wuppertal-live.de
URL:https://www.wuppertal-live.de/ical/634501
END:VEVENT
END:VCALENDAR
