BEGIN:VCALENDAR
VERSION:2.0
METHOD:PUBLISH
PRODID:Wuppertal-Live ICal v9.0 R38/39
BEGIN:VEVENT
CLASS:PUBLIC
DESCRIPTION:weitere Termininfos und Ticketbuchung unter https://www.wuppert
 al-live.de/ical/634478 
DTEND;TZID=Europe/Berlin:20261128T230000
DTSTAMP:20260420T164826Z
DTSTART;TZID=Europe/Berlin:20261128T210000
LOCATION:INSEL\, Wiesenstr. 6\, 42105 Wuppertal
PRIORITY:5
SEQUENCE:0
SUMMARY:INSEL Tango Club / DJs Isabella und Iwan / Visuals Zara Gayk
TRANSP:OPAQUE
UID:634478:www.wuppertal-live.de
URL:https://www.wuppertal-live.de/ical/634478
END:VEVENT
END:VCALENDAR
