BEGIN:VCALENDAR
VERSION:2.0
METHOD:PUBLISH
PRODID:Wuppertal-Live ICal v9.0 R38/39
BEGIN:VEVENT
CLASS:PUBLIC
DESCRIPTION:weitere Termininfos und Ticketbuchung unter https://www.wuppert
 al-live.de/ical/634468 
DTEND;TZID=Europe/Berlin:20261114T223000
DTSTAMP:20260420T164729Z
DTSTART;TZID=Europe/Berlin:20261114T203000
LOCATION:INSEL\, Wiesenstr. 6\, 42105 Wuppertal
PRIORITY:5
SEQUENCE:0
SUMMARY:Neotango Landscapes Milonga / TDJ Bärbel Rispler / Visuals Zara Ga
 yk
TRANSP:OPAQUE
UID:634468:www.wuppertal-live.de
URL:https://www.wuppertal-live.de/ical/634468
END:VEVENT
END:VCALENDAR
