BEGIN:VCALENDAR
VERSION:2.0
METHOD:PUBLISH
PRODID:Wuppertal-Live ICal v9.0 R38/39
BEGIN:VEVENT
CLASS:PUBLIC
DESCRIPTION:weitere Termininfos unter https://www.wuppertal-live.de/ical/63
 4452 
DTEND;TZID=Europe/Berlin:20260422T203000
DTSTAMP:20260420T162210Z
DTSTART;TZID=Europe/Berlin:20260422T183000
LOCATION:Utopiastadt\, Mirker Str. 48\, 42105 Wuppertal
PRIORITY:5
SEQUENCE:0
SUMMARY:Vollbild e.V. -- Pitching-Event
TRANSP:OPAQUE
UID:634452:www.wuppertal-live.de
URL:https://www.wuppertal-live.de/ical/634452
END:VEVENT
END:VCALENDAR
