BEGIN:VCALENDAR
VERSION:2.0
METHOD:PUBLISH
PRODID:Wuppertal-Live ICal v9.0 R38/39
BEGIN:VEVENT
CLASS:PUBLIC
DESCRIPTION:weitere Termininfos unter https://www.wuppertal-live.de/ical/63
 4269 
DTEND;TZID=Europe/Berlin:20260516T220000
DTSTAMP:20260420T035449Z
DTSTART;TZID=Europe/Berlin:20260516T200000
LOCATION:Kubis Musik-Café\, Staubenthaler Str. 18\, 42369 Wuppertal
PRIORITY:5
SEQUENCE:0
SUMMARY:Yannik Füser -- "Das Glück in dir"
TRANSP:OPAQUE
UID:634269:www.wuppertal-live.de
URL:https://www.wuppertal-live.de/ical/634269
END:VEVENT
END:VCALENDAR
