BEGIN:VCALENDAR
VERSION:2.0
METHOD:PUBLISH
PRODID:Wuppertal-Live ICal v9.0 R38/39
BEGIN:VEVENT
CLASS:PUBLIC
DESCRIPTION:weitere Termininfos und Ticketbuchung unter https://www.wuppert
 al-live.de/ical/633999 
DTEND;TZID=Europe/Berlin:20260904T230000
DTSTAMP:20260420T032825Z
DTSTART;TZID=Europe/Berlin:20260904T200000
LOCATION:Kubis Musik-Café\, Staubenthaler Str. 18\, 42369 Wuppertal
PRIORITY:5
SEQUENCE:0
SUMMARY:Offene Bühne Ronsdorf · Special Guest: t.b.a.* -- "Folk &amp\; Mi
 ddle Age"
TRANSP:OPAQUE
UID:633999:www.wuppertal-live.de
URL:https://www.wuppertal-live.de/ical/633999
END:VEVENT
END:VCALENDAR
