BEGIN:VCALENDAR
VERSION:2.0
METHOD:PUBLISH
PRODID:Wuppertal-Live ICal v9.0 R38/39
BEGIN:VEVENT
CLASS:PUBLIC
DESCRIPTION:weitere Termininfos und Ticketbuchung unter https://www.wuppert
 al-live.de/ical/633822 
DTEND;TZID=Europe/Berlin:20260801T220000
DTSTAMP:20260420T162159Z
DTSTART;TZID=Europe/Berlin:20260801T200000
LOCATION:INSEL\, Wiesenstr. 6\, 42105 Wuppertal
PRIORITY:5
SEQUENCE:0
SUMMARY:Rumbero's &amp\; Bachatero's Social
TRANSP:OPAQUE
UID:633822:www.wuppertal-live.de
URL:https://www.wuppertal-live.de/ical/633822
END:VEVENT
END:VCALENDAR
