BEGIN:VCALENDAR
VERSION:2.0
METHOD:PUBLISH
PRODID:Wuppertal-Live ICal v9.0 R38/39
BEGIN:VEVENT
CLASS:PUBLIC
DESCRIPTION:weitere Termininfos und Ticketbuchung unter https://www.wuppert
 al-live.de/ical/633821 
DTEND;TZID=Europe/Berlin:20260905T220000
DTSTAMP:20260420T164916Z
DTSTART;TZID=Europe/Berlin:20260905T200000
LOCATION:INSEL\, Wiesenstr. 6\, 42105 Wuppertal
PRIORITY:5
SEQUENCE:0
SUMMARY:Rumbero's &amp\; Bachatero's Social
TRANSP:OPAQUE
UID:633821:www.wuppertal-live.de
URL:https://www.wuppertal-live.de/ical/633821
END:VEVENT
END:VCALENDAR
