BEGIN:VCALENDAR
VERSION:2.0
METHOD:PUBLISH
PRODID:Wuppertal-Live ICal v9.0 R38/39
BEGIN:VEVENT
CLASS:PUBLIC
DESCRIPTION:weitere Termininfos unter https://www.wuppertal-live.de/ical/63
 3730 
DTEND;TZID=Europe/Berlin:20260706T190000
DTSTAMP:20260420T035440Z
DTSTART;TZID=Europe/Berlin:20260706T170000
LOCATION:Naturfreundehaus Ronsdorf\, Luhnsfelder Höhe 7\, 42369 Wuppertal
PRIORITY:5
SEQUENCE:0
SUMMARY:Naturfreunde Ronsdorf -- Fahrten- und Wanderliedern auch ernste und
  nachdenkliche Strophen aus der Arbeiter-\, Umwelt- und Friedensbewegung
TRANSP:OPAQUE
UID:633730:www.wuppertal-live.de
URL:https://www.wuppertal-live.de/ical/633730
END:VEVENT
END:VCALENDAR
