BEGIN:VCALENDAR
VERSION:2.0
METHOD:PUBLISH
PRODID:Wuppertal-Live ICal v9.0 R38/39
BEGIN:VEVENT
CLASS:PUBLIC
DESCRIPTION:weitere Termininfos unter https://www.wuppertal-live.de/ical/63
 3729 
DTEND;TZID=Europe/Berlin:20260614T130000
DTSTAMP:20260420T032713Z
DTSTART;TZID=Europe/Berlin:20260614T110000
LOCATION:Naturfreundehaus Ronsdorf\, Luhnsfelder Höhe 7\, 42369 Wuppertal
PRIORITY:5
SEQUENCE:0
SUMMARY:Roman Ortner · Maxim Lysow -- Balalaika und Gitarre
TRANSP:OPAQUE
UID:633729:www.wuppertal-live.de
URL:https://www.wuppertal-live.de/ical/633729
END:VEVENT
END:VCALENDAR
