BEGIN:VCALENDAR
VERSION:2.0
METHOD:PUBLISH
PRODID:Wuppertal-Live ICal v9.0 R38/39
BEGIN:VEVENT
CLASS:PUBLIC
DESCRIPTION:weitere Termininfos unter https://www.wuppertal-live.de/ical/63
 3727 
DTEND;TZID=Europe/Berlin:20260506T160000
DTSTAMP:20260420T032815Z
DTSTART;TZID=Europe/Berlin:20260506T110000
LOCATION:Naturfreundehaus Ronsdorf\, Luhnsfelder Höhe 7\, 42369 Wuppertal
PRIORITY:5
SEQUENCE:0
SUMMARY:Die Freidenker Wuppertal -- Offener Stammtisch für frei Denkende
TRANSP:OPAQUE
UID:633727:www.wuppertal-live.de
URL:https://www.wuppertal-live.de/ical/633727
END:VEVENT
END:VCALENDAR
