BEGIN:VCALENDAR
VERSION:2.0
METHOD:PUBLISH
PRODID:Wuppertal-Live ICal v9.0 R38/39
BEGIN:VEVENT
CLASS:PUBLIC
DESCRIPTION:weitere Termininfos unter https://www.remscheid-live.de/ical/63
 3694 
DTEND;TZID=Europe/Berlin:20260516T000000
DTSTAMP:20260420T032815Z
DTSTART;TZID=Europe/Berlin:20260515T220000
LOCATION:Déjà-vu\, Lenhartzhammer 4\, 42899 Remscheid
PRIORITY:5
SEQUENCE:0
SUMMARY:Schlager\, Malle &amp\; alles\, was knallt!-Party
TRANSP:OPAQUE
UID:633694:www.remscheid-live.de
URL:https://www.remscheid-live.de/ical/633694
END:VEVENT
END:VCALENDAR
