BEGIN:VCALENDAR
VERSION:2.0
METHOD:PUBLISH
PRODID:Wuppertal-Live ICal v9.0 R38/39
BEGIN:VEVENT
CLASS:PUBLIC
DESCRIPTION:weitere Termininfos und Ticketbuchung unter https://www.wuppert
 al-live.de/ical/633583 
DTEND;TZID=Europe/Berlin:20260509T210000
DTSTAMP:20260424T212434Z
DTSTART;TZID=Europe/Berlin:20260509T190000
LOCATION:Galerie n46\, Neumarktstr. 46\, 42103 Wuppertal
PRIORITY:5
SEQUENCE:0
SUMMARY:Tanzrauschen · on move / move on -- "1001 lights" und "Verwehte Li
 eder"
TRANSP:OPAQUE
UID:633583:www.wuppertal-live.de
URL:https://www.wuppertal-live.de/ical/633583
END:VEVENT
END:VCALENDAR
