BEGIN:VCALENDAR
VERSION:2.0
METHOD:PUBLISH
PRODID:Wuppertal-Live ICal v9.0 R38/39
BEGIN:VEVENT
CLASS:PUBLIC
DESCRIPTION:weitere Termininfos und Ticketbuchung unter https://www.wuppert
 al-live.de/ical/633523 
DTEND;TZID=Europe/Berlin:20261114T221500
DTSTAMP:20260420T164836Z
DTSTART;TZID=Europe/Berlin:20261114T200000
LOCATION:TalTonTHEATER\, Wiesenstr. 118\, 42105 Wuppertal
PRIORITY:5
SEQUENCE:0
SUMMARY:Trio Theater im TTT -- Musical "Elternabend"
TRANSP:OPAQUE
UID:633523:www.wuppertal-live.de
URL:https://www.wuppertal-live.de/ical/633523
END:VEVENT
END:VCALENDAR
