BEGIN:VCALENDAR
VERSION:2.0
METHOD:PUBLISH
PRODID:Wuppertal-Live ICal v9.0 R38/39
BEGIN:VEVENT
CLASS:PUBLIC
DESCRIPTION:weitere Termininfos und Ticketbuchung unter https://www.wuppert
 al-live.de/ical/633504 
DTEND;TZID=Europe/Berlin:20260430T040000
DTSTAMP:20260420T162118Z
DTSTART;TZID=Europe/Berlin:20260430T220000
LOCATION:Loch\, Plateniusstr. 35\, 42105 Wuppertal
PRIORITY:5
SEQUENCE:0
SUMMARY:Simone · XiYo · DJ Kaluluwa · DJ Lakas -- Funk in den Mai
TRANSP:OPAQUE
UID:633504:www.wuppertal-live.de
URL:https://www.wuppertal-live.de/ical/633504
END:VEVENT
END:VCALENDAR
