BEGIN:VCALENDAR
VERSION:2.0
METHOD:PUBLISH
PRODID:Wuppertal-Live ICal v9.0 R38/39
BEGIN:VEVENT
CLASS:PUBLIC
DESCRIPTION:weitere Termininfos und Ticketbuchung unter https://www.wuppert
 al-live.de/ical/633500 
DTEND;TZID=Europe/Berlin:20261014T220000
DTSTAMP:20260420T162210Z
DTSTART;TZID=Europe/Berlin:20261014T200000
LOCATION:Loch\, Plateniusstr. 35\, 42105 Wuppertal
PRIORITY:5
SEQUENCE:0
SUMMARY:Fuchsthone Orchestra feat. Evi Filippou
TRANSP:OPAQUE
UID:633500:www.wuppertal-live.de
URL:https://www.wuppertal-live.de/ical/633500
END:VEVENT
END:VCALENDAR
