BEGIN:VCALENDAR
VERSION:2.0
METHOD:PUBLISH
PRODID:Wuppertal-Live ICal v9.0 R38/39
BEGIN:VEVENT
CLASS:PUBLIC
DESCRIPTION:weitere Termininfos und Ticketbuchung unter https://www.wuppert
 al-live.de/ical/633498 
DTEND;TZID=Europe/Berlin:20260510T153000
DTSTAMP:20260422T204101Z
DTSTART;TZID=Europe/Berlin:20260510T140000
LOCATION:Bob Campus Nachbarschaftsetage\, Wichlinghauser Str. 31\, 42277 Wu
 ppertal
PRIORITY:5
SEQUENCE:0
SUMMARY:Andrea Karimé -- Schreibspaß mit Andrea Karimé: Vom Vogel Kusch\
 , der das Meer austrinken wollte und anderen wutmutigen Wesen
TRANSP:OPAQUE
UID:633498:www.wuppertal-live.de
URL:https://www.wuppertal-live.de/ical/633498
END:VEVENT
END:VCALENDAR
