BEGIN:VCALENDAR
VERSION:2.0
METHOD:PUBLISH
PRODID:Wuppertal-Live ICal v9.0 R38/39
BEGIN:VEVENT
CLASS:PUBLIC
DESCRIPTION:weitere Termininfos und Ticketbuchung unter https://www.wuppert
 al-live.de/ical/633495 
DTEND;TZID=Europe/Berlin:20260527T220000
DTSTAMP:20260420T164744Z
DTSTART;TZID=Europe/Berlin:20260527T200000
LOCATION:Loch\, Plateniusstr. 35\, 42105 Wuppertal
PRIORITY:5
SEQUENCE:0
SUMMARY:Roya Soraya · Nadia Sheya -- Comic Lesung Graphic Novel "Wind in m
 einem Kopftuch"
TRANSP:OPAQUE
UID:633495:www.wuppertal-live.de
URL:https://www.wuppertal-live.de/ical/633495
END:VEVENT
END:VCALENDAR
