BEGIN:VCALENDAR
VERSION:2.0
METHOD:PUBLISH
PRODID:Wuppertal-Live ICal v9.0 R38/39
BEGIN:VEVENT
CLASS:PUBLIC
DESCRIPTION:weitere Termininfos unter https://www.wuppertal-live.de/ical/63
 3444 
DTEND;TZID=Europe/Berlin:20260614T180000
DTSTAMP:20260420T164917Z
DTSTART;TZID=Europe/Berlin:20260614T110000
LOCATION:Otto-Böhne-Platz\, Otto-Böhne-Platz 1\, 42105 Wuppertal
PRIORITY:5
SEQUENCE:0
SUMMARY:Ölberger Kunstmarkt
TRANSP:OPAQUE
UID:633444:www.wuppertal-live.de
URL:https://www.wuppertal-live.de/ical/633444
END:VEVENT
END:VCALENDAR
