BEGIN:VCALENDAR
VERSION:2.0
METHOD:PUBLISH
PRODID:Wuppertal-Live ICal v9.0 R38/39
BEGIN:VEVENT
CLASS:PUBLIC
DESCRIPTION:weitere Termininfos unter https://www.wuppertal-live.de/ical/63
 3215 
DTEND;TZID=Europe/Berlin:20260522T010000
DTSTAMP:20260420T164916Z
DTSTART;TZID=Europe/Berlin:20260522T200000
LOCATION:Café ADA\, Wiesenstr. 6\, 42105 Wuppertal
PRIORITY:5
SEQUENCE:0
SUMMARY:Lindy Hoppers Delight
TRANSP:OPAQUE
UID:633215:www.wuppertal-live.de
URL:https://www.wuppertal-live.de/ical/633215
END:VEVENT
END:VCALENDAR
