BEGIN:VCALENDAR
VERSION:2.0
METHOD:PUBLISH
PRODID:Wuppertal-Live ICal v9.0 R38/39
BEGIN:VEVENT
CLASS:PUBLIC
DESCRIPTION:weitere Termininfos unter https://www.wuppertal-live.de/ical/63
 3165 
DTEND;TZID=Europe/Berlin:20260705T170000
DTSTAMP:20260420T164836Z
DTSTART;TZID=Europe/Berlin:20260705T150000
LOCATION:Begegnungsstätte Alte Synagoge\, Genügsamkeitstr. \, 42103 Wuppe
 rtal
PRIORITY:5
SEQUENCE:0
SUMMARY:Öffentliche Sonntagsführung durch die Begegnungsstätte
TRANSP:OPAQUE
UID:633165:www.wuppertal-live.de
URL:https://www.wuppertal-live.de/ical/633165
END:VEVENT
END:VCALENDAR
