BEGIN:VCALENDAR
VERSION:2.0
METHOD:PUBLISH
PRODID:Wuppertal-Live ICal v9.0 R38/39
BEGIN:VEVENT
CLASS:PUBLIC
DESCRIPTION:weitere Termininfos unter https://www.wuppertal-live.de/ical/63
 3164 
DTEND;TZID=Europe/Berlin:20260701T200000
DTSTAMP:20260420T162210Z
DTSTART;TZID=Europe/Berlin:20260701T180000
LOCATION:Begegnungsstätte Alte Synagoge\, Genügsamkeitstr. \, 42103 Wuppe
 rtal
PRIORITY:5
SEQUENCE:0
SUMMARY:Sommerkurs - Fünf Abende zum Thema Judentum
TRANSP:OPAQUE
UID:633164:www.wuppertal-live.de
URL:https://www.wuppertal-live.de/ical/633164
END:VEVENT
END:VCALENDAR
