BEGIN:VCALENDAR
VERSION:2.0
METHOD:PUBLISH
PRODID:Wuppertal-Live ICal v9.0 R38/39
BEGIN:VEVENT
CLASS:PUBLIC
DESCRIPTION:weitere Termininfos unter https://www.wuppertal-live.de/ical/63
 3163 
DTEND;TZID=Europe/Berlin:20260617T210000
DTSTAMP:20260420T162250Z
DTSTART;TZID=Europe/Berlin:20260617T190000
LOCATION:Begegnungsstätte Alte Synagoge\, Genügsamkeitstr. \, 42103 Wuppe
 rtal
PRIORITY:5
SEQUENCE:0
SUMMARY:Prof. i.R. Dr. Gabriele Sander · Julia Wolff -- Maria Leitner Lite
 rarische Chronistin
TRANSP:OPAQUE
UID:633163:www.wuppertal-live.de
URL:https://www.wuppertal-live.de/ical/633163
END:VEVENT
END:VCALENDAR
