BEGIN:VCALENDAR
VERSION:2.0
METHOD:PUBLISH
PRODID:Wuppertal-Live ICal v9.0 R38/39
BEGIN:VEVENT
CLASS:PUBLIC
DESCRIPTION:weitere Termininfos unter https://www.wuppertal-live.de/ical/63
 3101 
DTEND;TZID=Europe/Berlin:20260506T210000
DTSTAMP:20260421T084910Z
DTSTART;TZID=Europe/Berlin:20260506T190000
LOCATION:Färberei\, Peter-Hansen-Platz 1\, 42275 Wuppertal
PRIORITY:5
SEQUENCE:0
SUMMARY:Annette Hager (Moderation) · Mobile Oase · transit_oberbarmen -- 
 11. Wüstentalk: Zuversicht. Trotz alledem und alledem
TRANSP:OPAQUE
UID:633101:www.wuppertal-live.de
URL:https://www.wuppertal-live.de/ical/633101
END:VEVENT
END:VCALENDAR
