BEGIN:VCALENDAR
VERSION:2.0
METHOD:PUBLISH
PRODID:Wuppertal-Live ICal v9.0 R38/39
BEGIN:VEVENT
CLASS:PUBLIC
DESCRIPTION:weitere Termininfos unter https://www.wuppertal-live.de/ical/63
 3070 
DTEND;TZID=Europe/Berlin:20260503T170000
DTSTAMP:20260420T162118Z
DTSTART;TZID=Europe/Berlin:20260503T150000
LOCATION:Begegnungsstätte Alte Synagoge\, Genügsamkeitstr. \, 42103 Wuppe
 rtal
PRIORITY:5
SEQUENCE:0
SUMMARY:Öffentliche Sonntagsführung durch die Begegnungsstätte
TRANSP:OPAQUE
UID:633070:www.wuppertal-live.de
URL:https://www.wuppertal-live.de/ical/633070
END:VEVENT
END:VCALENDAR
