BEGIN:VCALENDAR
VERSION:2.0
METHOD:PUBLISH
PRODID:Wuppertal-Live ICal v9.0 R38/39
BEGIN:VEVENT
CLASS:PUBLIC
DESCRIPTION:weitere Termininfos und Ticketbuchung unter https://www.wuppert
 al-live.de/ical/632992 
DTEND;TZID=Europe/Berlin:20260516T203000
DTSTAMP:20260422T204102Z
DTSTART;TZID=Europe/Berlin:20260516T183000
LOCATION:Wuppertal - In der ganzen Stadt\, - -\, - Wuppertal
PRIORITY:5
SEQUENCE:0
SUMMARY:Wuppertaler Literatur Biennale 2026 -- Festivalpass
TRANSP:OPAQUE
UID:632992:www.wuppertal-live.de
URL:https://www.wuppertal-live.de/ical/632992
END:VEVENT
END:VCALENDAR
