BEGIN:VCALENDAR
VERSION:2.0
METHOD:PUBLISH
PRODID:Wuppertal-Live ICal v9.0 R38/39
BEGIN:VEVENT
CLASS:PUBLIC
DESCRIPTION:weitere Termininfos unter https://www.wuppertal-live.de/ical/63
 2979 
DTEND;TZID=Europe/Berlin:20260513T213000
DTSTAMP:20260422T201422Z
DTSTART;TZID=Europe/Berlin:20260513T193000
LOCATION:Pina Bausch Zentrum\, Bundesallee 260\, 42103 Wuppertal
PRIORITY:5
SEQUENCE:0
SUMMARY:WLB26 - die Preisgala
TRANSP:OPAQUE
UID:632979:www.wuppertal-live.de
URL:https://www.wuppertal-live.de/ical/632979
END:VEVENT
END:VCALENDAR
