BEGIN:VCALENDAR
VERSION:2.0
METHOD:PUBLISH
PRODID:Wuppertal-Live ICal v9.0 R38/39
BEGIN:VEVENT
CLASS:PUBLIC
DESCRIPTION:weitere Termininfos und Ticketbuchung unter https://www.wuppert
 al-live.de/ical/632976 
DTEND;TZID=Europe/Berlin:20260516T133000
DTSTAMP:20260420T162118Z
DTSTART;TZID=Europe/Berlin:20260516T113000
LOCATION:Loch\, Plateniusstr. 35\, 42105 Wuppertal
PRIORITY:5
SEQUENCE:0
SUMMARY:Mehrandokht Feizi · Thorsten Krämer -- Das Rattenbuch
TRANSP:OPAQUE
UID:632976:www.wuppertal-live.de
URL:https://www.wuppertal-live.de/ical/632976
END:VEVENT
END:VCALENDAR
