BEGIN:VCALENDAR
VERSION:2.0
METHOD:PUBLISH
PRODID:Wuppertal-Live ICal v9.0 R38/39
BEGIN:VEVENT
CLASS:PUBLIC
DESCRIPTION:weitere Termininfos und Ticketbuchung unter https://www.wuppert
 al-live.de/ical/632975 
DTEND;TZID=Europe/Berlin:20260516T183000
DTSTAMP:20260420T164917Z
DTSTART;TZID=Europe/Berlin:20260516T163000
LOCATION:Loch\, Plateniusstr. 35\, 42105 Wuppertal
PRIORITY:5
SEQUENCE:0
SUMMARY:Matthias Rürup · Claudia Cosmo -- Chefchen - Eine Höllenfahrt
TRANSP:OPAQUE
UID:632975:www.wuppertal-live.de
URL:https://www.wuppertal-live.de/ical/632975
END:VEVENT
END:VCALENDAR
