BEGIN:VCALENDAR
VERSION:2.0
METHOD:PUBLISH
PRODID:Wuppertal-Live ICal v9.0 R38/39
BEGIN:VEVENT
CLASS:PUBLIC
DESCRIPTION:weitere Termininfos und Ticketbuchung unter https://www.wuppert
 al-live.de/ical/632974 
DTEND;TZID=Europe/Berlin:20260516T150000
DTSTAMP:20260420T164826Z
DTSTART;TZID=Europe/Berlin:20260516T130000
LOCATION:Loch\, Plateniusstr. 35\, 42105 Wuppertal
PRIORITY:5
SEQUENCE:0
SUMMARY:Marina Jenkner · Bärbel Klässner -- FrauenWut - Schrei(b) es rau
 s!
TRANSP:OPAQUE
UID:632974:www.wuppertal-live.de
URL:https://www.wuppertal-live.de/ical/632974
END:VEVENT
END:VCALENDAR
