BEGIN:VCALENDAR
VERSION:2.0
METHOD:PUBLISH
PRODID:Wuppertal-Live ICal v9.0 R38/39
BEGIN:VEVENT
CLASS:PUBLIC
DESCRIPTION:weitere Termininfos und Ticketbuchung unter https://www.wuppert
 al-live.de/ical/632973 
DTEND;TZID=Europe/Berlin:20260516T173000
DTSTAMP:20260420T162250Z
DTSTART;TZID=Europe/Berlin:20260516T153000
LOCATION:Loch\, Plateniusstr. 35\, 42105 Wuppertal
PRIORITY:5
SEQUENCE:0
SUMMARY:Yasemin Bertel -- Wut-Archiv der Stimmen
TRANSP:OPAQUE
UID:632973:www.wuppertal-live.de
URL:https://www.wuppertal-live.de/ical/632973
END:VEVENT
END:VCALENDAR
