BEGIN:VCALENDAR
VERSION:2.0
METHOD:PUBLISH
PRODID:Wuppertal-Live ICal v9.0 R38/39
BEGIN:VEVENT
CLASS:PUBLIC
DESCRIPTION:weitere Termininfos und Ticketbuchung unter https://www.wuppert
 al-live.de/ical/632969 
DTEND;TZID=Europe/Berlin:20260516T223000
DTSTAMP:20260420T162200Z
DTSTART;TZID=Europe/Berlin:20260516T203000
LOCATION:Loch\, Plateniusstr. 35\, 42105 Wuppertal
PRIORITY:5
SEQUENCE:0
SUMMARY:KARUSSELL-Redaktion · Special Guests -- Karussell: Lesung zu Ausga
 be #4 der Literaturzeitschrift
TRANSP:OPAQUE
UID:632969:www.wuppertal-live.de
URL:https://www.wuppertal-live.de/ical/632969
END:VEVENT
END:VCALENDAR
