BEGIN:VCALENDAR
VERSION:2.0
METHOD:PUBLISH
PRODID:Wuppertal-Live ICal v9.0 R38/39
BEGIN:VEVENT
CLASS:PUBLIC
DESCRIPTION:weitere Termininfos und Ticketbuchung unter https://www.wuppert
 al-live.de/ical/632854 
DTEND;TZID=Europe/Berlin:20260514T190000
DTSTAMP:20260422T204100Z
DTSTART;TZID=Europe/Berlin:20260514T170000
LOCATION:Schimmerlos\, Friedrich-Ebert-Str. 85\, 42103 Wuppertal
PRIORITY:5
SEQUENCE:0
SUMMARY:Veronika Kracher · Johannes Franzen · Elisa Aseva -- Wut und Wüt
 erich
TRANSP:OPAQUE
UID:632854:www.wuppertal-live.de
URL:https://www.wuppertal-live.de/ical/632854
END:VEVENT
END:VCALENDAR
