BEGIN:VCALENDAR
VERSION:2.0
METHOD:PUBLISH
PRODID:Wuppertal-Live ICal v9.0 R38/39
BEGIN:VEVENT
CLASS:PUBLIC
DESCRIPTION:weitere Termininfos und Ticketbuchung unter https://www.wuppert
 al-live.de/ical/632853 
DTEND;TZID=Europe/Berlin:20260514T213000
DTSTAMP:20260420T162102Z
DTSTART;TZID=Europe/Berlin:20260514T193000
LOCATION:TalTonTHEATER\, Wiesenstr. 118\, 42105 Wuppertal
PRIORITY:5
SEQUENCE:0
SUMMARY:Susanne Kaiser · Luisa Banki · Cathrin Kriewen -- Haters gonna ha
 te
TRANSP:OPAQUE
UID:632853:www.wuppertal-live.de
URL:https://www.wuppertal-live.de/ical/632853
END:VEVENT
END:VCALENDAR
