BEGIN:VCALENDAR
VERSION:2.0
METHOD:PUBLISH
PRODID:Wuppertal-Live ICal v9.0 R38/39
BEGIN:VEVENT
CLASS:PUBLIC
DESCRIPTION:weitere Termininfos und Ticketbuchung unter https://www.wuppert
 al-live.de/ical/632852 
DTEND;TZID=Europe/Berlin:20260514T160000
DTSTAMP:20260422T201423Z
DTSTART;TZID=Europe/Berlin:20260514T140000
LOCATION:Creators Club\, Luisenstr. 94a\, 42103 Wuppertal
PRIORITY:5
SEQUENCE:0
SUMMARY:Mariam Meetra · Sebastian Schmidt · Simone Scharbert -- Schreibt 
 Gedichte\, sonst sind wir verloren!
TRANSP:OPAQUE
UID:632852:www.wuppertal-live.de
URL:https://www.wuppertal-live.de/ical/632852
END:VEVENT
END:VCALENDAR
