BEGIN:VCALENDAR
VERSION:2.0
METHOD:PUBLISH
PRODID:Wuppertal-Live ICal v9.0 R38/39
BEGIN:VEVENT
CLASS:PUBLIC
DESCRIPTION:weitere Termininfos unter https://www.wuppertal-live.de/ical/63
 2851 
DTEND;TZID=Europe/Berlin:20260513T230000
DTSTAMP:20260422T201426Z
DTSTART;TZID=Europe/Berlin:20260513T210000
LOCATION:Raum 2 - Siegersbusch Film\, Friedrich-Ebert-Str. 143e\, 42117 Wup
 pertal
PRIORITY:5
SEQUENCE:0
SUMMARY:Linus Volkmann -- I wanna destroy passersby
TRANSP:OPAQUE
UID:632851:www.wuppertal-live.de
URL:https://www.wuppertal-live.de/ical/632851
END:VEVENT
END:VCALENDAR
