BEGIN:VCALENDAR
VERSION:2.0
METHOD:PUBLISH
PRODID:Wuppertal-Live ICal v9.0 R38/39
BEGIN:VEVENT
CLASS:PUBLIC
DESCRIPTION:weitere Termininfos und Ticketbuchung unter https://www.wuppert
 al-live.de/ical/632850 
DTEND;TZID=Europe/Berlin:20260512T213000
DTSTAMP:20260422T201422Z
DTSTART;TZID=Europe/Berlin:20260512T193000
LOCATION:Studio One Coworking GmbH\, Neumarkt 5\, 42103 Wuppertal
PRIORITY:5
SEQUENCE:0
SUMMARY:Verena Keßler · Antonius Weixler -- Frau im Spiegel
TRANSP:OPAQUE
UID:632850:www.wuppertal-live.de
URL:https://www.wuppertal-live.de/ical/632850
END:VEVENT
END:VCALENDAR
