BEGIN:VCALENDAR
VERSION:2.0
METHOD:PUBLISH
PRODID:Wuppertal-Live ICal v9.0 R38/39
BEGIN:VEVENT
CLASS:PUBLIC
DESCRIPTION:weitere Termininfos und Ticketbuchung unter https://www.wuppert
 al-live.de/ical/632849 
DTEND;TZID=Europe/Berlin:20260512T190000
DTSTAMP:20260422T201423Z
DTSTART;TZID=Europe/Berlin:20260512T170000
LOCATION:swane café\, Luisenstr. 102a\, 42103 Wuppertal
PRIORITY:5
SEQUENCE:0
SUMMARY:Djaïli Amadou Amal · Marie Cravageot · Laura Wiemer -- Die Wut d
 er ungeduldigen Frauen
TRANSP:OPAQUE
UID:632849:www.wuppertal-live.de
URL:https://www.wuppertal-live.de/ical/632849
END:VEVENT
END:VCALENDAR
