BEGIN:VCALENDAR
VERSION:2.0
METHOD:PUBLISH
PRODID:Wuppertal-Live ICal v9.0 R38/39
BEGIN:VEVENT
CLASS:PUBLIC
DESCRIPTION:weitere Termininfos und Ticketbuchung unter https://www.wuppert
 al-live.de/ical/632848 
DTEND;TZID=Europe/Berlin:20260511T213000
DTSTAMP:20260420T162102Z
DTSTART;TZID=Europe/Berlin:20260511T193000
LOCATION:Utopiastadt\, Mirker Str. 48\, 42105 Wuppertal
PRIORITY:5
SEQUENCE:0
SUMMARY:Clara Leinemann · Dana von Suffrin · Emily Grunert -- Von der Lie
 be\, die keine ist
TRANSP:OPAQUE
UID:632848:www.wuppertal-live.de
URL:https://www.wuppertal-live.de/ical/632848
END:VEVENT
END:VCALENDAR
