BEGIN:VCALENDAR
VERSION:2.0
METHOD:PUBLISH
PRODID:Wuppertal-Live ICal v9.0 R38/39
BEGIN:VEVENT
CLASS:PUBLIC
DESCRIPTION:weitere Termininfos unter https://www.wuppertal-live.de/ical/63
 2847 
DTEND;TZID=Europe/Berlin:20260510T180000
DTSTAMP:20260422T204056Z
DTSTART;TZID=Europe/Berlin:20260510T130000
LOCATION:Bob Campus Nachbarschaftsetage\, Wichlinghauser Str. 31\, 42277 Wu
 ppertal
PRIORITY:5
SEQUENCE:0
SUMMARY:Familientag der Wuppertaler Literatur Biennale · Roya Soraya · Ka
 trin Schmitz · Andrea Karimé · Le Mietz · Björn und die Farbenkinder 
 · Celina Klingbeil -- Farben der Wut
TRANSP:OPAQUE
UID:632847:www.wuppertal-live.de
URL:https://www.wuppertal-live.de/ical/632847
END:VEVENT
END:VCALENDAR
